BEGIN:VCALENDAR
VERSION:2.0
PRODID:-//Jiu-Jitsu Union Niedersachsen e. V. - ECPv6.3.2//NONSGML v1.0//EN
CALSCALE:GREGORIAN
METHOD:PUBLISH
X-ORIGINAL-URL:https://www.jju-nds.de
X-WR-CALDESC:Veranstaltungen für Jiu-Jitsu Union Niedersachsen e. V.
REFRESH-INTERVAL;VALUE=DURATION:PT1H
X-Robots-Tag:noindex
X-PUBLISHED-TTL:PT1H
BEGIN:VTIMEZONE
TZID:Europe/Berlin
BEGIN:DAYLIGHT
TZOFFSETFROM:+0100
TZOFFSETTO:+0200
TZNAME:CEST
DTSTART:20220327T010000
END:DAYLIGHT
BEGIN:STANDARD
TZOFFSETFROM:+0200
TZOFFSETTO:+0100
TZNAME:CET
DTSTART:20221030T010000
END:STANDARD
END:VTIMEZONE
BEGIN:VEVENT
DTSTART;TZID=Europe/Berlin:20220423T140000
DTEND;TZID=Europe/Berlin:20220423T170000
DTSTAMP:20260424T011431
CREATED:20191102T092707Z
LAST-MODIFIED:20220323T170756Z
UID:5125-1650722400-1650733200@www.jju-nds.de
SUMMARY:Landeslehrgang - Technik
DESCRIPTION:LL 02/22\nAusschreibung-PDF \nReferent: Andreas Eggert\, 7. Dan Renge Ryu Jiu-Jitsu \nLehrgangsleitung: Olaf Scher (Tel. 0172 – 8844560) \nLehrgangsart: Landeslehrgang – Technik  \nDatum: 23. April 2022  \nZeit: 14.00 Uhr – 17.00 Uhr  \nOrt: Gymnastikraum des Gymnasiums\, Berliner Ring 27\, 31303 Burgdorf  \nThematik: Traditionelles Jiu-Jitsu  \nTeilnehmer: Verbandsoffen  \nKosten: 15\,00 € je Teilnehmer/pauschal  \nBemerkung: Es gelten die zum Zeitpunkt des Lehrgangs gültigen Corona-Regeln für öffentliche Veranstaltungen\, ein entsprechender Nachweis ist gegebenenfalls zu erbringen. Auch ist eine kurzfristige Absage des Lehrganges möglich\, der Veranstalter übernimmt für daraus entstehende Kosten keine Haftung!  \nHinweis: Veranstalter und Ausrichter übernehmen keine Haftung für Personen-\, Sach- oder Vermögensschäden. Bitte das aktuelle Waffenrecht beachten! Einverständniserklärung: Die Teilnehmer erklären mit ihrer Teilnahme am Lehrgang ihr Einverständnis zur Erstellung von Foto-\, Film- und Tonaufnahmen ihrer Personen im Rahmen des Lehrgangs\, zur Verwendung und Veröffentlichung zum Zwecke der öffentlichen Berichterstattung. Sollte jemand hiermit nicht einverstanden sein\, dieses bitte dem Ausrichter vor dem Lehrgang mitteilen. 
URL:https://www.jju-nds.de/veranstaltung/landeslehrgang-technik-2-22/
LOCATION:Burgdorf\, Deutschland
CATEGORIES:Landeslehrgang
END:VEVENT
END:VCALENDAR