BEGIN:VCALENDAR
VERSION:2.0
PRODID:-//Jiu-Jitsu Union Niedersachsen e. V. - ECPv6.3.2//NONSGML v1.0//EN
CALSCALE:GREGORIAN
METHOD:PUBLISH
X-ORIGINAL-URL:https://www.jju-nds.de
X-WR-CALDESC:Veranstaltungen für Jiu-Jitsu Union Niedersachsen e. V.
REFRESH-INTERVAL;VALUE=DURATION:PT1H
X-Robots-Tag:noindex
X-PUBLISHED-TTL:PT1H
BEGIN:VTIMEZONE
TZID:Europe/Berlin
BEGIN:DAYLIGHT
TZOFFSETFROM:+0100
TZOFFSETTO:+0200
TZNAME:CEST
DTSTART:20220327T010000
END:DAYLIGHT
BEGIN:STANDARD
TZOFFSETFROM:+0200
TZOFFSETTO:+0100
TZNAME:CET
DTSTART:20221030T010000
END:STANDARD
END:VTIMEZONE
BEGIN:VEVENT
DTSTART;TZID=Europe/Berlin:20220521T120000
DTEND;TZID=Europe/Berlin:20220522T120000
DTSTAMP:20260424T000347
CREATED:20191102T114135Z
LAST-MODIFIED:20220415T163607Z
UID:5137-1653134400-1653220800@www.jju-nds.de
SUMMARY:Landeslehrgang - alle Katas
DESCRIPTION:LL 04/22 \nPDF \nLehrgangsleitung: Karel Schepers (Tel.: +31 622168306)  \n Ausrichter: Grys-San-Do  \nReferenten: Tony van Venrooy\, 8. Dan Ju-Jitsu | Richard Jonk\, 6. Dan Jiu-Jitsu  \nLehrgangsart: Landeslehrgang – Kata  \nDatum: 21. – 22. Mai 2022  \nZeit: Samstag\, 14.00 Uhr – 17.00Uhr (ab 12:00 Uhr Abgabe der Pässe)  \nSonntag\, 09.00 Uhr – 12.00 Uhr  \nOrt: Agrobaan 9\, 5813 EB Ysselsteyn  \nThematik: alle Kata\, gemäß Bundesprüfungsordnung der DJJU\, Teil 3.4\,  \nPrüfungsinhalte DAN-Grade\, Kata  \nTeilnehmer: Verbandsoffen  \nKosten: 20\,00 € je Teilnehmer/pauschal\, optional Verpflegung 25\,00 €  \n(Mittag- und Frühstück\, Samstagabend ist chinesisches Essen geplant)  \nBemerkung: Anmeldung bis zum 21.04.2022\, gemäß Terminplanung 2022  \nMattenübernachtung nach Absprache möglich. Es gelten die zum Zeitpunkt des Lehrgangs gültigen Corona-Regeln für öffentliche Veranstaltungen\, ein entsprechender Nachweis ist gegebenenfalls zu erbringen. Auch ist eine kurzfristige Absage des Lehrganges möglich\, der Veranstalter übernimmt für daraus entstehende Kosten keine Haftung! 
URL:https://www.jju-nds.de/veranstaltung/landeslehrgang-alle-katas-22-2/
LOCATION:Ysselsteyn\, Deutschland
CATEGORIES:Landeslehrgang
END:VEVENT
END:VCALENDAR