BEGIN:VCALENDAR
VERSION:2.0
PRODID:-//Jiu-Jitsu Union Niedersachsen e. V. - ECPv6.3.2//NONSGML v1.0//EN
CALSCALE:GREGORIAN
METHOD:PUBLISH
X-ORIGINAL-URL:https://www.jju-nds.de
X-WR-CALDESC:Veranstaltungen für Jiu-Jitsu Union Niedersachsen e. V.
REFRESH-INTERVAL;VALUE=DURATION:PT1H
X-Robots-Tag:noindex
X-PUBLISHED-TTL:PT1H
BEGIN:VTIMEZONE
TZID:Europe/Berlin
BEGIN:DAYLIGHT
TZOFFSETFROM:+0100
TZOFFSETTO:+0200
TZNAME:CEST
DTSTART:20220327T010000
END:DAYLIGHT
BEGIN:STANDARD
TZOFFSETFROM:+0200
TZOFFSETTO:+0100
TZNAME:CET
DTSTART:20221030T010000
END:STANDARD
END:VTIMEZONE
BEGIN:VEVENT
DTSTART;TZID=Europe/Berlin:20220603T000000
DTEND;TZID=Europe/Berlin:20220605T000000
DTSTAMP:20260424T000209
CREATED:20191102T114135Z
LAST-MODIFIED:20220430T171648Z
UID:4959-1654214400-1654387200@www.jju-nds.de
SUMMARY:Jiu-Jitsu-Camp - Neuer Termin folgt noch
DESCRIPTION:Achtung: Termin steht noch nicht fest \nKinder\, Jugendliche und Erwachsene\, in den Niederlanden\nReferenten: folgt
URL:https://www.jju-nds.de/veranstaltung/vl-22/
LOCATION:Ysselsteyn\, Deutschland
CATEGORIES:Sonstiges
END:VEVENT
END:VCALENDAR