BEGIN:VCALENDAR
VERSION:2.0
PRODID:-//Jiu-Jitsu Union Niedersachsen e. V. - ECPv6.3.2//NONSGML v1.0//EN
CALSCALE:GREGORIAN
METHOD:PUBLISH
X-WR-CALNAME:Jiu-Jitsu Union Niedersachsen e. V.
X-ORIGINAL-URL:https://www.jju-nds.de
X-WR-CALDESC:Veranstaltungen für Jiu-Jitsu Union Niedersachsen e. V.
REFRESH-INTERVAL;VALUE=DURATION:PT1H
X-Robots-Tag:noindex
X-PUBLISHED-TTL:PT1H
BEGIN:VTIMEZONE
TZID:Europe/Berlin
BEGIN:DAYLIGHT
TZOFFSETFROM:+0100
TZOFFSETTO:+0200
TZNAME:CEST
DTSTART:20220327T010000
END:DAYLIGHT
BEGIN:STANDARD
TZOFFSETFROM:+0200
TZOFFSETTO:+0100
TZNAME:CET
DTSTART:20221030T010000
END:STANDARD
END:VTIMEZONE
BEGIN:VEVENT
DTSTART;VALUE=DATE:20220827
DTEND;VALUE=DATE:20220829
DTSTAMP:20260424T011222
CREATED:20191102T114558Z
LAST-MODIFIED:20220727T162315Z
UID:4768-1661558400-1661731199@www.jju-nds.de
SUMMARY:Danträger- und Übungsleitertreffen 2022
DESCRIPTION:LL 06/22 \nAusschreibung PDF \nReferenten: Thorsten Albrecht 5. Dan Karate & Wilfried Meyer 2. Dan Jiu-Jitsu  \nLehrgangsleitung: Wilfried Meyer\, Tel. 0170 2039575 \nLehrgangsart: Landeslehrgang – Technik/Lizenzen  \nDatum: 27. – 28.08.2022  \nBeginn: 13:00 Uhr (ab 12:00 Uhr Abgabe der Pässe)  \nOrt: Sporthalle der Waldschule Steyerberg\, Sportallee 4\, 31595 Steyerberg  \nThematik: T. Albrecht: Hanbo in der Selbstverteidigung\, Blöcke in Technikkombinationen  \nW. Meyer: Prüferlizenzerstvergabe  \nTeilnehmer: Danträger und Übungsleiter (angehende Danträger)  \nKosten: 25\,- € je Teilnehmer (inkl. Abendessen + 5\,00 € Frühstück)  \nBemerkung: Anmeldeschluss ist der 18.08.2022  \nTrainingswaffen bitte nicht vergessen!  \nMattenübernachtung nach Absprache möglich.  \nHotelübernachtungen bitte mit der Lehrgangsleitung absprechen. Aufgrund des Coronavirus kann es Änderungen im Ablauf geben. Auch ist eine kurzfristige Absage des Lehrganges möglich\, der Veranstalter übernimmt für daraus entstehende Kosten keine Haftung!  \nLizenzen – Anrechnung:  \nVerlängerung der Prüferlizenz (bei Teilnahme am Samstag\, sowie der Teilnahme an einem Bundes- oder Landes-Technik-Lehrgang\, innerhalb des letzten Jahres (BPO\, Teil 2.1 Prüferlizenz\, 2.1.4).  \n12 Stunden für die Verlängerung der Übungsleiterlizenz (Sa. + So.)  \nWir freuen uns auf Euch! \n Hinweis: Veranstalter und Ausrichter übernehmen keine Haftung für Personen-\, Sach- oder Vermögensschäden. Bitte das aktuelle Waffenrecht beachten! Einverständniserklärung: Die Teilnehmer erklären mit ihrer Teilnahme am Lehrgang ihr Einverständnis zur Erstellung von Foto-\, Film- und Tonaufnahmen ihrer Personen im Rahmen des Lehrgangs\, zur Verwendung und Veröffentlichung zum Zwecke der öffentlichen Berichterstattung. Sollte jemand hiermit nicht einverstanden sein\, dieses bitte dem Ausrichter vor dem Lehrgang mitteilen. \n  \n  \nAblaufplanung:  \nSamstag 27.08.2022  \nab 12:00 Uhr: Abgabe der Pässe\,  \nEintragen in Lehrgangsliste sowie Teilnahmeliste LSB  \nBeginn: 13:00 Uhr (große Halle)  \n13:00 Uhr – 14:30 Uhr – Thema: Hanbo in der Selbstverteidigung  \nPause: 14:30 Uhr – 14:45 Uhr  \n14:45 Uhr – 16:15 Uhr – Thema: Blöcke in Technikkombinationen  \nPause: 16:15 Uhr – 16:30 Uhr  \n16:30 Uhr – 17:45 Uhr – BPO\, Prüfungen und Lehrgangsplanung 2023  \n– Anti-Doping-Maßnahme 2022/2023  \n– sonstiges  \n19:00 Uhr – 20:00 Uhr: Gemeinsames Abendessen\, danach gemütliches Beisammensein  \nSonntag 28.08.2022  \nFrühstück: 07:45 Uhr – 08:45 Uhr  \nab 08:45 Uhr: Eintragen in Lehrgangsliste  \nBeginn: 09:00 Uhr (große Halle)  \n09.00 Uhr – 10.30 Uhr – Thema: Hanbo in der Selbstverteidigung  \nPause: 10:30 – 10:45 Uhr  \n10:45 Uhr – 12:15 Uhr – Thema: Blöcke in Technikkombinationen  \nLehrgangsende: 12:15 Uhr  \nPrüferlizenzerstvergabe:  \nSamstag 27.08.2022 (Eintragen in Lehrgangsliste sowie Teilnahmeliste LSB)  \nBeginn: 13:00 Uhr 13:00 Uhr – 14:30 Uhr – BPO\, KPO (U-Raum\, Mensa)  \nPause: 14:30 Uhr – 14:45 Uhr  \n14:45 Uhr – 16:15 Uhr – Waffenrecht (U-Raum\, Mensa)  \nSonntag 28.08.2022 (Eintragen in Lehrgangsliste)  \nBeginn: 09:00 Uhr 09.00 Uhr – 10.30 Uhr – Passordnung\, Listen & Urkunden (U-Raum\, Mensa)  \nPause: 10:30 Uhr – 10:45 Uhr  \n10:45 Uhr – 12:15 Uhr – FGO\, KfF (U-Raum\, Mensa)  \nLehrgangsende: 12:15 Uhr  \nBitte Für die Lizenzerstvergabe gesondert melden! 
URL:https://www.jju-nds.de/veranstaltung/dantraeger-und-uel-treffen22/
LOCATION:Steyerberg\, Sportallee\, 31595 Steyerberg\, Deutschland
CATEGORIES:Landeslehrgang
END:VEVENT
END:VCALENDAR