BEGIN:VCALENDAR
VERSION:2.0
PRODID:-//Jiu-Jitsu Union Niedersachsen e. V. - ECPv6.3.2//NONSGML v1.0//EN
CALSCALE:GREGORIAN
METHOD:PUBLISH
X-WR-CALNAME:Jiu-Jitsu Union Niedersachsen e. V.
X-ORIGINAL-URL:https://www.jju-nds.de
X-WR-CALDESC:Veranstaltungen für Jiu-Jitsu Union Niedersachsen e. V.
REFRESH-INTERVAL;VALUE=DURATION:PT1H
X-Robots-Tag:noindex
X-PUBLISHED-TTL:PT1H
BEGIN:VTIMEZONE
TZID:Europe/Berlin
BEGIN:DAYLIGHT
TZOFFSETFROM:+0100
TZOFFSETTO:+0200
TZNAME:CEST
DTSTART:20220327T010000
END:DAYLIGHT
BEGIN:STANDARD
TZOFFSETFROM:+0200
TZOFFSETTO:+0100
TZNAME:CET
DTSTART:20221030T010000
END:STANDARD
END:VTIMEZONE
BEGIN:VEVENT
DTSTART;TZID=Europe/Berlin:20220911T120000
DTEND;TZID=Europe/Berlin:20220911T200000
DTSTAMP:20260424T025120
CREATED:20191102T092233Z
LAST-MODIFIED:20220820T162242Z
UID:5244-1662897600-1662926400@www.jju-nds.de
SUMMARY:Landesprüfung Grys-San-Do\, Niederlande
DESCRIPTION: LP 01/22  \nAusschreibung-PDF \nDatum: 11.09.2022\nZeit: Beginn 13:00 Uhr\, ab 12:00 Uhr Eintreffen und Abgabe der Pässe  \nOrt: Grys-San-Do\, Gezellenbaan 10\, 5813 EB Ysselsteyn (NL)  \nAnmeldung: Schriftliche Anmeldung über den Verein/Abteilung per vollständig ausgefüllten Graduierungsantrag.  \nEingang der Unterlagen beim Lehr- und Prüfungswart über Geschäftsstelle bis zum 04.09.2022.  \nAusrüstung: Budo-Gi (weiß)\, Budopass und Waffen  \nKosten: 20\,00 € für Prüfungen zum 1. KYU  \n60\,00 € für DAN-Prüfungen  \nDie Prüfungsgebühren müssen bis zum 04.09.2022 auf dem Konto der JJU-Nds. e. V.\nIBAN: DE62256900096000290500\, BIC: GENODEF1NIN (Volksbank Nienburg eG)\nunter Angabe der Veranstaltungsnummer und Name des/der Prüflinge(e) gebucht sein.  \nBemerkung: Die Punkte 2.2\, 2.4\, 2.6 sowie 3.3 der Bundesprüfungsordnung sind Voraussetzung für die Zulassung zur Prüfung.  \nDie geltenden Corona-Maßnahmen sind vom Ausrichter unbedingt einzuhalten\, daher wird die Prüfung unter Vorbehalt ausgeschrieben.  \nHinweis: Veranstalter und Ausrichter übernehmen keine Haftung für Personen-\, Sach- oder Vermögensschäden. Bitte das aktuelle Waffenrecht beachten! Einverständniserklärung: Die Teilnehmer erklären mit ihrer Teilnahme an der Prüfung ihr Einverständnis zur Erstellung von Foto-\, Film- und Tonaufnahmen ihrer Personen im Rahmen der Prüfung\, zur Verwendung und Veröffentlichung zum Zwecke der öffentlichen Berichterstattung durch die JJU-Nds. e.V. Weitere Foto-\, Film- und Tonaufnahmen nur nach Genehmigung durch den Prüfungsvorsitzenden bzw. dem Vorstand. Sollte jemand hiermit nicht einverstanden sein\, dieses bitte dem Ausrichter vor der Prüfung mitteilen.  \n Jiu-Jitsu Union Niedersachsen e. V. Fachverband für traditionelles und modernes Jiu-Jitsu JJU-Nds. e. V. Geschäftsstelle Bruchhagen 49 31595 Steyerberg Mobil: 0170 2039575 E-Mail: wm@jju-nds.de 
URL:https://www.jju-nds.de/veranstaltung/landespruefung0221-3/
LOCATION:Niederlande\, Niederlande
CATEGORIES:Landesprüfung
END:VEVENT
END:VCALENDAR