BEGIN:VCALENDAR
VERSION:2.0
PRODID:-//Jiu-Jitsu Union Niedersachsen e. V. - ECPv6.3.2//NONSGML v1.0//EN
CALSCALE:GREGORIAN
METHOD:PUBLISH
X-ORIGINAL-URL:https://www.jju-nds.de
X-WR-CALDESC:Veranstaltungen für Jiu-Jitsu Union Niedersachsen e. V.
REFRESH-INTERVAL;VALUE=DURATION:PT1H
X-Robots-Tag:noindex
X-PUBLISHED-TTL:PT1H
BEGIN:VTIMEZONE
TZID:Europe/Berlin
BEGIN:DAYLIGHT
TZOFFSETFROM:+0100
TZOFFSETTO:+0200
TZNAME:CEST
DTSTART:20220327T010000
END:DAYLIGHT
BEGIN:STANDARD
TZOFFSETFROM:+0200
TZOFFSETTO:+0100
TZNAME:CET
DTSTART:20221030T010000
END:STANDARD
END:VTIMEZONE
BEGIN:VEVENT
DTSTART;TZID=Europe/Berlin:20221203T120000
DTEND;TZID=Europe/Berlin:20221203T180000
DTSTAMP:20260424T053631
CREATED:20191102T121539Z
LAST-MODIFIED:20191102T121539Z
UID:5308-1670068800-1670090400@www.jju-nds.de
SUMMARY:Landesprüfung
DESCRIPTION: LP 02/22  \nAuschreibung-PDF \nDatum: 03.12.2022  \nZeit: Beginn 13:00 Uhr\nAb 12:00 Uhr Eintreffen und Abgabe der Pässe  \nOrt: Grys-San-Do\, Gezellenbaan 10\, 5813 EB Ysselsteyn (NL)  \nAnmeldung: Schriftliche Anmeldung über den Verein/Abteilung per vollständig ausgefüllten Graduierungsantrag. Eingang der Unterlagen beim Lehr- und Prüfungswart über Geschäftsstelle bis zum 18.11.2022.  \nAusrüstung: Budo-Gi (weiß)\, Budopass und Waffen  \nKosten: 20\,00 € für Prüfungen zum 1. KYU\n60\,00 € für DAN-Prüfungen  \nDie Prüfungsgebühren müssen bis zum 18.11.2022 auf dem Konto der JJU-Nds. e. V.\nBAN: DE62256900096000290500\, BIC: GENODEF1NIN (Volksbank Nienburg eG) un\nter Angabe der Veranstaltungsnummer und Name des/der Prüflinge(e) gebucht sein.  \nBemerkung: Die Punkte 2.2\, 2.4\, 2.6 sowie 3.3 der Bundesprüfungsordnung sind Voraussetzung für die Zulassung zur Prüfung. Die geltenden Corona-Maßnahmen sind vom Ausrichter unbedingt einzuhalten\, daher wird die Prüfung unter Vorbehalt ausgeschrieben \nHinweis: Veranstalter und Ausrichter übernehmen keine Haftung für Personen-\, Sach- oder Vermögensschäden. Bitte das aktuelle Waffenrecht beachten! Einverständniserklärung: Die Teilnehmer erklären mit ihrer Teilnahme an der Prüfung ihr Einverständnis zur Erstellung von Foto-\, Film- und Tonaufnahmen ihrer Personen im Rahmen der Prüfung\, zur Verwendung und Veröffentlichung zum Zwecke der öffentlichen Berichterstattung durch die JJU-Nds. e.V. Weitere Foto-\, Film- und Tonaufnahmen nur nach Genehmigung durch den Prüfungsvorsitzenden bzw. dem Vorstand. Sollte jemand hiermit nicht einverstanden sein\, dieses bitte dem Ausrichter vor der Prüfung mitteilen. \nWir freuen uns auf Euch!
URL:https://www.jju-nds.de/veranstaltung/landespruefung-22-3-3/
LOCATION:Ysselsteyn\, Deutschland
CATEGORIES:Landesprüfung
END:VEVENT
END:VCALENDAR