BEGIN:VCALENDAR
VERSION:2.0
PRODID:-//Jiu-Jitsu Union Niedersachsen e. V. - ECPv6.3.2//NONSGML v1.0//EN
CALSCALE:GREGORIAN
METHOD:PUBLISH
X-WR-CALNAME:Jiu-Jitsu Union Niedersachsen e. V.
X-ORIGINAL-URL:https://www.jju-nds.de
X-WR-CALDESC:Veranstaltungen für Jiu-Jitsu Union Niedersachsen e. V.
REFRESH-INTERVAL;VALUE=DURATION:PT1H
X-Robots-Tag:noindex
X-PUBLISHED-TTL:PT1H
BEGIN:VTIMEZONE
TZID:Europe/Berlin
BEGIN:DAYLIGHT
TZOFFSETFROM:+0100
TZOFFSETTO:+0200
TZNAME:CEST
DTSTART:20230326T010000
END:DAYLIGHT
BEGIN:STANDARD
TZOFFSETFROM:+0200
TZOFFSETTO:+0100
TZNAME:CET
DTSTART:20231029T010000
END:STANDARD
END:VTIMEZONE
BEGIN:VEVENT
DTSTART;TZID=Europe/Berlin:20230506T140000
DTEND;TZID=Europe/Berlin:20230506T170000
DTSTAMP:20260424T130228
CREATED:20221126T162958Z
LAST-MODIFIED:20221126T162958Z
UID:5431-1683381600-1683392400@www.jju-nds.de
SUMMARY:Landeslehrgang - Technik
DESCRIPTION:LL 03/23 \nAusschreibung-PDF \nReferent: Frank Stolzenburg\, Head Instructor Berlin Kali Group(.de)\, 6. Dan Ju-Jitsu\, 3. Dan Kali Sikaran\, 1. Dan Kyusho-Jitsu\, 1. Dan Kempo Karate\, 3. Dan Kali Silat E. \nVeranstaltungsleitung: Olaf Scher\, Tel. 0172 8844560 \nVeranstaltungsart: Landeslehrgang – Technik \n Datum: 06. Mai 2023 \nZeit: 14:00 Uhr – 17:00 Uhr \nOrt: Gymnastikraum des Gymnasiums\, Berliner Ring 27\, 31303 Burgdorf  \nThematik: Stocktechniken – Handhabung\, Fußarbeit\, Distanz\, Schlag- und Blockübungen\, Abwehr und Weiterführung\, Stock- und Doppelstock Drills  \nTeilnehmer: ab 14 Jahre\, offen für alle Stile und Systeme\, Anfänger und Fortgeschrittene  \nKosten: 15\,00 € je Teilnehmer / pauschal  \nBemerkung: Stock 2x (Softstick 2x) und Pratzen 2x mitbringen. Stöcke und Pratzen stehen nur in begrenzter Anzahl zur Verfügung. \n  \n Hinweis: Veranstalter und Ausrichter übernehmen keine Haftung für Personen-\, Sach- oder Vermögensschäden. Bitte das aktuelle Waffenrecht beachten! Einverständniserklärung: Die Teilnehmer erklären mit ihrer Teilnahme an der Veranstaltung\, ihr Einverständnis zur Erstellung von Foto-\, Film- und Tonaufnahmen ihrer Person im Rahmen der Veranstaltung\, zur Verwendung und Veröffentlichung zum Zwecke der öffentlichen Berichterstattung. Sollte jemand hiermit nicht einverstanden sein\, ist dieses bitte dem Ausrichter vor der Veranstaltung mitteilen. 
URL:https://www.jju-nds.de/veranstaltung/landeslehrgang-technik-4-3/
LOCATION:Burgdorf\, Deutschland
CATEGORIES:Landeslehrgang
END:VEVENT
BEGIN:VEVENT
DTSTART;TZID=Europe/Berlin:20230506T140000
DTEND;TZID=Europe/Berlin:20230506T170000
DTSTAMP:20260424T130228
CREATED:20221126T162958Z
LAST-MODIFIED:20221126T162958Z
UID:5432-1683381600-1683392400@www.jju-nds.de
SUMMARY:Landeslehrgang - Technik
DESCRIPTION:LL 03/23 \nAusschreibung-PDF \nReferent: Frank Stolzenburg\, Head Instructor Berlin Kali Group(.de)\, 6. Dan Ju-Jitsu\, 3. Dan Kali Sikaran\, 1. Dan Kyusho-Jitsu\, 1. Dan Kempo Karate\, 3. Dan Kali Silat E. \nVeranstaltungsleitung: Olaf Scher\, Tel. 0172 8844560 \nVeranstaltungsart: Landeslehrgang – Technik \n Datum: 06. Mai 2023 \nZeit: 14:00 Uhr – 17:00 Uhr \nOrt: Gymnastikraum des Gymnasiums\, Berliner Ring 27\, 31303 Burgdorf  \nThematik: Stocktechniken – Handhabung\, Fußarbeit\, Distanz\, Schlag- und Blockübungen\, Abwehr und Weiterführung\, Stock- und Doppelstock Drills  \nTeilnehmer: ab 14 Jahre\, offen für alle Stile und Systeme\, Anfänger und Fortgeschrittene  \nKosten: 15\,00 € je Teilnehmer / pauschal  \nBemerkung: Stock 2x (Softstick 2x) und Pratzen 2x mitbringen. Stöcke und Pratzen stehen nur in begrenzter Anzahl zur Verfügung. \n  \n Hinweis: Veranstalter und Ausrichter übernehmen keine Haftung für Personen-\, Sach- oder Vermögensschäden. Bitte das aktuelle Waffenrecht beachten! Einverständniserklärung: Die Teilnehmer erklären mit ihrer Teilnahme an der Veranstaltung\, ihr Einverständnis zur Erstellung von Foto-\, Film- und Tonaufnahmen ihrer Person im Rahmen der Veranstaltung\, zur Verwendung und Veröffentlichung zum Zwecke der öffentlichen Berichterstattung. Sollte jemand hiermit nicht einverstanden sein\, ist dieses bitte dem Ausrichter vor der Veranstaltung mitteilen. 
URL:https://www.jju-nds.de/veranstaltung/landeslehrgang-technik-4-4/
LOCATION:Burgdorf\, Deutschland
CATEGORIES:Landeslehrgang
END:VEVENT
END:VCALENDAR