BEGIN:VCALENDAR
VERSION:2.0
PRODID:-//Jiu-Jitsu Union Niedersachsen e. V. - ECPv6.3.2//NONSGML v1.0//EN
CALSCALE:GREGORIAN
METHOD:PUBLISH
X-ORIGINAL-URL:https://www.jju-nds.de
X-WR-CALDESC:Veranstaltungen für Jiu-Jitsu Union Niedersachsen e. V.
REFRESH-INTERVAL;VALUE=DURATION:PT1H
X-Robots-Tag:noindex
X-PUBLISHED-TTL:PT1H
BEGIN:VTIMEZONE
TZID:Europe/Berlin
BEGIN:DAYLIGHT
TZOFFSETFROM:+0100
TZOFFSETTO:+0200
TZNAME:CEST
DTSTART:20240331T010000
END:DAYLIGHT
BEGIN:STANDARD
TZOFFSETFROM:+0200
TZOFFSETTO:+0100
TZNAME:CET
DTSTART:20241027T010000
END:STANDARD
END:VTIMEZONE
BEGIN:VEVENT
DTSTART;TZID=Europe/Berlin:20240316T140000
DTEND;TZID=Europe/Berlin:20240316T170000
DTSTAMP:20260424T210506
CREATED:20191102T092707Z
LAST-MODIFIED:20191102T092707Z
UID:5529-1710597600-1710608400@www.jju-nds.de
SUMMARY:Landeslehrgang - Technik
DESCRIPTION:LL 01/24 \nAusschreibung-PDF \nReferent: Florian Dau | 8. MG R.S.F.- Concept Combatives (IBBA)\, 7. Dan Ju-Jutsu (JJI/IMAF)\, 2. Dan Thaikido (Mixed Martial Arts)\, 1. Dan Aikijutsu (JJI/IBBA)\, 1. Dan Aikido 1. Dan Combat Stick Fight \nVeranstaltungsleitung: Olaf Scher Tel. 0172 8844560 \n Ausrichter: Samurai Burgdorf e. V.  \nDatum: 16.03.2024 \nZeit: 14.00 Uhr – 17.00 Uhr  \nOrt: Gymnastikraum des Gymnasiums\, Berliner Ring 27\, 31303 Burgdorf  \nThematik: Selbstverteidigung und Aikijutsu  \nTeilnehmer: Verbandsoffen  \nKosten: 15\,00 € je Teilnehmer / pauschal  \nBemerkung: keine 
URL:https://www.jju-nds.de/veranstaltung/landeslehrgang-technik-124-2/
LOCATION:Burgdorf\, Deutschland
CATEGORIES:Landeslehrgang
END:VEVENT
END:VCALENDAR