BEGIN:VCALENDAR
VERSION:2.0
PRODID:-//Jiu-Jitsu Union Niedersachsen e. V. - ECPv6.3.2//NONSGML v1.0//EN
CALSCALE:GREGORIAN
METHOD:PUBLISH
X-WR-CALNAME:Jiu-Jitsu Union Niedersachsen e. V.
X-ORIGINAL-URL:https://www.jju-nds.de
X-WR-CALDESC:Veranstaltungen für Jiu-Jitsu Union Niedersachsen e. V.
REFRESH-INTERVAL;VALUE=DURATION:PT1H
X-Robots-Tag:noindex
X-PUBLISHED-TTL:PT1H
BEGIN:VTIMEZONE
TZID:Europe/Berlin
BEGIN:DAYLIGHT
TZOFFSETFROM:+0100
TZOFFSETTO:+0200
TZNAME:CEST
DTSTART:20200329T010000
END:DAYLIGHT
BEGIN:STANDARD
TZOFFSETFROM:+0200
TZOFFSETTO:+0100
TZNAME:CET
DTSTART:20201025T010000
END:STANDARD
END:VTIMEZONE
BEGIN:VEVENT
DTSTART;TZID=Europe/Berlin:20200829T130000
DTEND;TZID=Europe/Berlin:20200829T190000
DTSTAMP:20260425T041501
CREATED:20191102T114558Z
LAST-MODIFIED:20191102T114558Z
UID:4968-1598706000-1598727600@www.jju-nds.de
SUMMARY:Danträger- und ÜL-Treffen
DESCRIPTION:Am 29.08.2020 fand das Danträger- und Übungsleitertreffen 2020 (LL 06/20) in Steyerberg statt. Bei der Terminplanung für 2021 wurde auch über die zwei noch ausstehenden Landeslehrgänge in 2020 (LL 08/20 am 24.10. in Osterwald sowie LL 09/20 am 14.11. in Großefehn) gesprochen. Einheitlich wurde von den anwesenden Vereinsvertretern sowie dem Vorstand beschlossen\, diese beiden Lehrgänge abzusagen. \nWir hoffen im Jahr 2021 wieder einen geregelten Lehrgangs- und Wettkampfbetrieb durchführen zu können. \nWir haben uns entschlossen\, das Danträger- und Übungsleitertreffen 2020 durchzuführen. Aufgrund der Maßnahmen zur Eindämmung der Coronapandemie wird das DÜT nur an einem Tag stattfinden. Auch haben wir den „Praxisteil“ in dem intensiver Körperkontakt nötig ist\, wegen der aktuellen Vorgaben entfallen lassen.\nAufgrund des Coronavirus kann es Änderungen im Ablauf geben. Auch ist eine kurzfristige Absage des Lehrganges möglich\, der Veranstalter übernimmt für daraus entstehende Kosten keine Haftung. Die geltenden Corona-Regeln sind einzuhalten! \n\nZur Anmeldung bitte ausschließlich die verlinkte Anmeldung benutzen.  \nLehrgangsnummer: LL 06/20\nReferenten: Martin Grützner\, Der Sportphysio\, Wilfried Meyer\, 2. Dan Jiu-Jitsu \nPDF – Ausschreibung \nPDF – Anmeldung \nLehrgangsleitung: Wilfried Meyer\, Tel. 0170 2039575\nLehrgangsart: Landeslehrgang – Theorie/Praxis (kontaktlos)/Lizenzen\nDatum: 29.08.2020 Beginn: 13:00 Uhr (ab 12:00 Uhr Abgabe der Pässe)\nOrt: Sporthalle der Waldschule Steyerberg Sportallee\, 31595 Steyerberg\nThematik:\nM. Grützner: Bedeutung des Bindegewebes\, Der Fuß – das Fundament\nW. Meyer: Prüferlizenzerstvergabe\, Teil 1\nTeilnehmer: Danträger und Übungsleiter (angehende Danträger)\nKosten: 15\,00 € je Teilnehmer (inkl. Abendessen)\nBemerkung: Anmeldeschluss ist der 14.08.2020\nHotelübernachtungen bitte mit der Lehrgangsleitung absprechen. Aufgrund des Coronavirus kann es Änderungen im Ablauf geben. Auch ist eine kurzfristige Absage des Lehrganges möglich\, der Veranstalter übernimmt für daraus entstehende Kosten keine Haftung! \nLizenzen – Anrechnung: \n\nVerlängerung der Prüferlizenz (bei Teilnahme am Samstag\, sowie der Teilnahme an einem Bundes- oder Landes-Technik-Lehrgang\, innerhalb des letzten Jahres (BPO\, Teil 2.1 Prüferlizenz\, 2.1.4).\n6 Stunden für die Verlängerung der Übungsleiterlizenz
URL:https://www.jju-nds.de/veranstaltung/dantraeger-und-uel-treffen-2/
LOCATION:Steyerberg\, Sportallee\, 31595 Steyerberg\, Deutschland
CATEGORIES:Landeslehrgang
END:VEVENT
END:VCALENDAR