BEGIN:VCALENDAR
VERSION:2.0
PRODID:-//Jiu-Jitsu Union Niedersachsen e. V. - ECPv6.3.2//NONSGML v1.0//EN
CALSCALE:GREGORIAN
METHOD:PUBLISH
X-WR-CALNAME:Jiu-Jitsu Union Niedersachsen e. V.
X-ORIGINAL-URL:https://www.jju-nds.de
X-WR-CALDESC:Veranstaltungen für Jiu-Jitsu Union Niedersachsen e. V.
REFRESH-INTERVAL;VALUE=DURATION:PT1H
X-Robots-Tag:noindex
X-PUBLISHED-TTL:PT1H
BEGIN:VTIMEZONE
TZID:Europe/Berlin
BEGIN:DAYLIGHT
TZOFFSETFROM:+0100
TZOFFSETTO:+0200
TZNAME:CEST
DTSTART:20200329T010000
END:DAYLIGHT
BEGIN:STANDARD
TZOFFSETFROM:+0200
TZOFFSETTO:+0100
TZNAME:CET
DTSTART:20201025T010000
END:STANDARD
END:VTIMEZONE
BEGIN:VEVENT
DTSTART;TZID=Europe/Berlin:20200905T000000
DTEND;TZID=Europe/Berlin:20200905T000000
DTSTAMP:20260425T025006
CREATED:20191102T114832Z
LAST-MODIFIED:20200905T192120Z
UID:4770-1599264000-1599264000@www.jju-nds.de
SUMMARY:ENTFÄLLT - Landesprüfung
DESCRIPTION:LP 02/20\nBedarf melden\, 4 Wochen vor Termin an Geschäftsstelle\nEinladung durch Lehr- und Prüfungsreferenten
URL:https://www.jju-nds.de/veranstaltung/landespruefung-2/
LOCATION:Flexibel\, Deutschland
CATEGORIES:Landesprüfung
END:VEVENT
BEGIN:VEVENT
DTSTART;TZID=Europe/Berlin:20200906T000000
DTEND;TZID=Europe/Berlin:20200906T000000
DTSTAMP:20260425T025006
CREATED:20191102T115215Z
LAST-MODIFIED:20200905T192021Z
UID:4774-1599350400-1599350400@www.jju-nds.de
SUMMARY:ENTFÄLLT - Landeslehrgang Technik - 60 Jahre Judo-Club Riestedt e.V.
DESCRIPTION:LL 07/20 \nReferent: F. Dau
URL:https://www.jju-nds.de/veranstaltung/60-jahre-judo-club-riestedt-e-v/
LOCATION:Uelzen\, Deutschland
CATEGORIES:Landeslehrgang
END:VEVENT
BEGIN:VEVENT
DTSTART;TZID=Europe/Berlin:20200919T000000
DTEND;TZID=Europe/Berlin:20200920T000000
DTSTAMP:20260425T025006
CREATED:20191102T115035Z
LAST-MODIFIED:20200905T192149Z
UID:4772-1600473600-1600560000@www.jju-nds.de
SUMMARY:ENTFÄLLT - Bundesseminar
DESCRIPTION:BL\nKooperation  DJJU/DJJB\nReferenten: diverse Großmeister
URL:https://www.jju-nds.de/veranstaltung/bundesseminar/
LOCATION:Mainz\, Albert-Schweitzer-Str. 22\, Mainz\, 55128\, Deutschland
CATEGORIES:Bundeslehrgang
END:VEVENT
END:VCALENDAR