BEGIN:VCALENDAR
VERSION:2.0
PRODID:-//Jiu-Jitsu Union Niedersachsen e. V. - ECPv6.3.2//NONSGML v1.0//EN
CALSCALE:GREGORIAN
METHOD:PUBLISH
X-ORIGINAL-URL:https://www.jju-nds.de
X-WR-CALDESC:Veranstaltungen für Jiu-Jitsu Union Niedersachsen e. V.
REFRESH-INTERVAL;VALUE=DURATION:PT1H
X-Robots-Tag:noindex
X-PUBLISHED-TTL:PT1H
BEGIN:VTIMEZONE
TZID:Europe/Berlin
BEGIN:DAYLIGHT
TZOFFSETFROM:+0100
TZOFFSETTO:+0200
TZNAME:CEST
DTSTART:20200329T010000
END:DAYLIGHT
BEGIN:STANDARD
TZOFFSETFROM:+0200
TZOFFSETTO:+0100
TZNAME:CET
DTSTART:20201025T010000
END:STANDARD
END:VTIMEZONE
BEGIN:VEVENT
DTSTART;TZID=Europe/Berlin:20201205T000000
DTEND;TZID=Europe/Berlin:20201205T000000
DTSTAMP:20260424T230317
CREATED:20191102T121539Z
LAST-MODIFIED:20191102T121539Z
UID:5122-1607126400-1607126400@www.jju-nds.de
SUMMARY:Landesprüfung
DESCRIPTION:LP 03/20\nEinladung durch Lehr- und Prüfungsreferenten\nBedarf melden\, 4 Wochen vor Termin an die Geschäftsstelle
URL:https://www.jju-nds.de/veranstaltung/landespruefung-3-2/
LOCATION:Flexibel\, Deutschland
CATEGORIES:Landesprüfung
END:VEVENT
BEGIN:VEVENT
DTSTART;VALUE=DATE:20201206
DTEND;VALUE=DATE:20201207
DTSTAMP:20260424T230317
CREATED:20201008T165129Z
LAST-MODIFIED:20201120T120156Z
UID:4924-1607212800-1607299199@www.jju-nds.de
SUMMARY:Jiu-Jitsu-Video-Challenge mit Gewinnspiel
DESCRIPTION:Einsendeschluß bis zum 6. Dezember verlängert! \nLiebe Mitglieder der Jiu-Jitsu Union Niedersachsen\, liebe Kids\, Teens und Eltern\,\n \neigentlich sollte es in diesem Jahr mit dem Wettkampf in der JJU Niedersachsen wieder so richtig los gehen und wir hatten tolle Pläne …\ndoch dann kam „Corona“ und wir mussten alle Vorhaben komplett auf Eis legen. Natürlich „aufgeschoben ist nicht aufgehoben!“ \nWir werden im kommenden Jahr versuchen\, eine große Meisterschaft für Euch auf die Beine zu stellen. Aber bis dahin wird es wohl noch eine ganze Weile dauern. \nDaher haben wir uns überlegt\, Euch zu einer Meisterschaft per Video aufzurufen! \nFlyer als PDF \nIhr könnt euch aussuchen\, in welcher Disziplin ihr antreten möchtet: \n1.  Fallschule \n2.  Kata \n3.  Techniken mit Partner \nFolgende Regeln sind einzuhalten: \nIhr seid im Alter von 8 bis 14 Jahren und trainiert aktiv Jiu-Jitsu. \nZu 1.: Zeige uns mindestens 5 verschiedene Falltechniken. \nZu 2.: Zeige uns eine Kata deiner Wahl aus dem Karate\, Kobudo oder einfach eine eigene „Erfindung“. \nZu 3.: Zeige uns mindestens 5 verschiedene Selbstverteidigungstechniken mit einem Partner gegen Angriffe deiner Wahl. \nVon eurer Leistung dreht ihr ein Video\, das nicht länger als 1 Minute sein soll. Eure Eltern\, Geschwister oder Freunde werden euch sicher gern dabei helfen. \nDieses Video schickt ihr dann bis spätestens 6. Dezember 2020 per WhatsApp oder Telegram an die Nummer 0170 2039575 oder per E-Mail an wm@jju-nds.de.\n \nVergesst bitte nicht\, euren Namen\, euer Alter\, euren Gürtelgrad und euren Verein dazuzuschreiben! \nNatürlich darf man auch in mehreren unserer Disziplinen antreten\, allerdings jeweils nur mit einem Video! \nDie eingeschickten Videos werden wir dann in einer Gruppe von Danträgern aus verschiedenen Vereinen der Jiu-Jitsu Union Niedersachsen bewerten und die jeweils besten ermitteln. \nZu gewinnen gibt es für die jeweils\nersten Plätze einen neuen Gi der Jiu-Jitsu Union Niedersachsen\, die\nzweiten Plätze erhalten einen Hoodie und ein T-Shirt mit dem coolen Video-Challenge-Logo und für die\ndritten Plätze gibt es ein T-Shirt der Video-Challenge.\nAußerdem erhält jeder Teilnehmer eine Urkunde! \nAchtung: Mit der Teilnahme erklärt ihr euch mit der Veröffentlichung des Videos in den sozialen Netzwerken und auf der Homepage der JJU Niedersachsen einverstanden. \nGerne könnt ihr den Flyer an Interessierte weitergeben …!\nWir freuen uns auf eure Teilnahme und sind gespannt\, was ihr euch einfallen lasst!\n \nDer Vorstand und das Veranstaltungsteam 🙂!
URL:https://www.jju-nds.de/veranstaltung/jiu-jitsu-video-challenge-mit-gewinnspiel/
LOCATION:Flexibel\, Deutschland
CATEGORIES:Sonstiges,Vereinswettkampf
END:VEVENT
END:VCALENDAR