BEGIN:VCALENDAR
VERSION:2.0
PRODID:-//Jiu-Jitsu Union Niedersachsen e. V. - ECPv6.3.2//NONSGML v1.0//EN
CALSCALE:GREGORIAN
METHOD:PUBLISH
X-ORIGINAL-URL:https://www.jju-nds.de
X-WR-CALDESC:Veranstaltungen für Jiu-Jitsu Union Niedersachsen e. V.
REFRESH-INTERVAL;VALUE=DURATION:PT1H
X-Robots-Tag:noindex
X-PUBLISHED-TTL:PT1H
BEGIN:VTIMEZONE
TZID:Europe/Berlin
BEGIN:DAYLIGHT
TZOFFSETFROM:+0100
TZOFFSETTO:+0200
TZNAME:CEST
DTSTART:20210328T010000
END:DAYLIGHT
BEGIN:STANDARD
TZOFFSETFROM:+0200
TZOFFSETTO:+0100
TZNAME:CET
DTSTART:20211031T010000
END:STANDARD
END:VTIMEZONE
BEGIN:VEVENT
DTSTART;VALUE=DATE:20210206
DTEND;VALUE=DATE:20210207
DTSTAMP:20260424T203105
CREATED:20191102T091851Z
LAST-MODIFIED:20210109T191256Z
UID:4964-1612569600-1612655999@www.jju-nds.de
SUMMARY:AUSGESETZT Ausbildung Wettkampf\, Teil 1
DESCRIPTION:LL02/21\nReferenten: B. + N. Campen
URL:https://www.jju-nds.de/veranstaltung/ausbildung_wettkampf-2/
LOCATION:Großefehn\, Deutschland
CATEGORIES:Landeslehrgang
END:VEVENT
END:VCALENDAR