BEGIN:VCALENDAR
VERSION:2.0
PRODID:-//Jiu-Jitsu Union Niedersachsen e. V. - ECPv6.3.2//NONSGML v1.0//EN
CALSCALE:GREGORIAN
METHOD:PUBLISH
X-WR-CALNAME:Jiu-Jitsu Union Niedersachsen e. V.
X-ORIGINAL-URL:https://www.jju-nds.de
X-WR-CALDESC:Veranstaltungen für Jiu-Jitsu Union Niedersachsen e. V.
REFRESH-INTERVAL;VALUE=DURATION:PT1H
X-Robots-Tag:noindex
X-PUBLISHED-TTL:PT1H
BEGIN:VTIMEZONE
TZID:Europe/Berlin
BEGIN:DAYLIGHT
TZOFFSETFROM:+0100
TZOFFSETTO:+0200
TZNAME:CEST
DTSTART:20210328T010000
END:DAYLIGHT
BEGIN:STANDARD
TZOFFSETFROM:+0200
TZOFFSETTO:+0100
TZNAME:CET
DTSTART:20211031T010000
END:STANDARD
END:VTIMEZONE
BEGIN:VEVENT
DTSTART;TZID=Europe/Berlin:20210430T000000
DTEND;TZID=Europe/Berlin:20210502T000000
DTSTAMP:20260424T161716
CREATED:20191102T092905Z
LAST-MODIFIED:20210422T091113Z
UID:4761-1619740800-1619913600@www.jju-nds.de
SUMMARY:AUSGESETZT Jiu-Jitsu - Camp in den Niederlanden
DESCRIPTION:VL\nReferenten: Verschiedene
URL:https://www.jju-nds.de/veranstaltung/camp_niederlanden/
LOCATION:Niederlande\, Niederlande
CATEGORIES:Vereinslehrgang
END:VEVENT
BEGIN:VEVENT
DTSTART;TZID=Europe/Berlin:20210515T133000
DTEND;TZID=Europe/Berlin:20210515T190000
DTSTAMP:20260424T161716
CREATED:20191102T092233Z
LAST-MODIFIED:20210511T170510Z
UID:4972-1621085400-1621105200@www.jju-nds.de
SUMMARY:AUSGESETZT - Landesprüfung
DESCRIPTION:LP 01/21 \nAusschreibung LP – PDF \nLehrgangsart: Landesprüfung  \nAusrichter:\nSelbstverteidigungsschule Yujin  \nDatum / Zeit:\n15.05.2021\nBeginn 14:00 Uhr\nAb 13:30 Uhr Eintreffen und Abgabe der Pässe \nStraße / Ort:\nSelbstverteidigungsschule Yujin\, Leerer Landstraße 14\, 26629 Großefehn  \nAnmeldung:\nSchriftliche Anmeldung über den Verein/Abteilung per vollständig ausgefüllten Graduierungsantrag. Eingang der Unterlagen beim Lehr- und Prüfungs-Referenten über Geschäftsstelle bis zum 08.05.2021.  \nAusrüstung:\nBudo-Gi (weiß)\, Budopass und Waffen \nKosten:\n20\,00 € für Prüfungen zum 1. KYU\n60\,00 € für DAN-Prüfungen \nDie Prüfungsgebühren müssen bis zum 08.05.2021 auf dem Konto der JJU-Nds. e. V.\nIBAN: DE62256900096000290500\nBIC: GENODEF1NIN\nVolksbank Nienburg eG\nunter Angabe der Veranstaltungsnummer und Name des/der Prüflinge(e) gebucht sein.  \nBemerkung:\nDie Punkte 2.2\, 2.4\, 2.6 sowie 3.3 der Bundesprüfungsordnung sind Voraussetzung für die Zulassung zur Prüfung.\nDiese Prüfung wurde gemäß der Bedarfsabfrage vom 23.03.2021 geplant. Die geltenden Corona-Maßnahmen sind vom Ausrichter unbedingt einzuhalten\, daher wird die Prüfung unter Vorbehalt ausgeschrieben.  \nHinweis:\nVeranstalter und Ausrichter übernehmen keine Haftung für Personen-\, Sach- oder Vermögensschäden. \nBitte das aktuelle Waffenrecht beachten! \nEinverständniserklärung:\nDie Teilnehmer erklären mit ihrer Teilnahme an der Prüfung ihr Einverständnis zur Erstellung von Foto-\, Film- und Tonaufnahmen ihrer Personen im Rahmen der Prüfung\, zur Verwendung und Veröffentlichung zum Zwecke der öffentlichen Berichterstattung. \nSollte jemand hiermit nicht einverstanden sein\, dieses bitte dem Ausrichter vor der Prüfung mitteilen. \n 
URL:https://www.jju-nds.de/veranstaltung/landespruefung-5/
LOCATION:Niederlande\, Niederlande
CATEGORIES:Landesprüfung
END:VEVENT
END:VCALENDAR