BEGIN:VCALENDAR
VERSION:2.0
PRODID:-//Jiu-Jitsu Union Niedersachsen e. V. - ECPv6.3.2//NONSGML v1.0//EN
CALSCALE:GREGORIAN
METHOD:PUBLISH
X-WR-CALNAME:Jiu-Jitsu Union Niedersachsen e. V.
X-ORIGINAL-URL:https://www.jju-nds.de
X-WR-CALDESC:Veranstaltungen für Jiu-Jitsu Union Niedersachsen e. V.
REFRESH-INTERVAL;VALUE=DURATION:PT1H
X-Robots-Tag:noindex
X-PUBLISHED-TTL:PT1H
BEGIN:VTIMEZONE
TZID:Europe/Berlin
BEGIN:DAYLIGHT
TZOFFSETFROM:+0100
TZOFFSETTO:+0200
TZNAME:CEST
DTSTART:20210328T010000
END:DAYLIGHT
BEGIN:STANDARD
TZOFFSETFROM:+0200
TZOFFSETTO:+0100
TZNAME:CET
DTSTART:20211031T010000
END:STANDARD
END:VTIMEZONE
BEGIN:VEVENT
DTSTART;TZID=Europe/Berlin:20210904T000000
DTEND;TZID=Europe/Berlin:20210904T000000
DTSTAMP:20260424T101943
CREATED:20191102T092233Z
LAST-MODIFIED:20210718T100612Z
UID:5004-1630713600-1630713600@www.jju-nds.de
SUMMARY:Landesprüfung ENTFÄLLT
DESCRIPTION:LP 02/21\nEinladung durch Lehr- und Prüfungsreferenten\nBedarf melden bis 4 Wochen vor Termin an die Geschäftsstelle
URL:https://www.jju-nds.de/veranstaltung/landespruefung0221-2-2/
LOCATION:Uelzen\, Deutschland
CATEGORIES:Landesprüfung
END:VEVENT
BEGIN:VEVENT
DTSTART;TZID=Europe/Berlin:20210904T000000
DTEND;TZID=Europe/Berlin:20210904T000000
DTSTAMP:20260424T101943
CREATED:20191102T092707Z
LAST-MODIFIED:20210718T100636Z
UID:4974-1630713600-1630713600@www.jju-nds.de
SUMMARY:Landeslehrgang - Technik ENTFÄLLT
DESCRIPTION:LL 08/21\nReferent: F. Dau
URL:https://www.jju-nds.de/veranstaltung/landeslehrgang-technik-0821-2/
LOCATION:Uelzen\, Deutschland
CATEGORIES:Landeslehrgang
END:VEVENT
BEGIN:VEVENT
DTSTART;TZID=Europe/Berlin:20210911T150000
DTEND;TZID=Europe/Berlin:20210911T183000
DTSTAMP:20260424T101943
CREATED:20191102T092023Z
LAST-MODIFIED:20210904T092317Z
UID:4753-1631372400-1631385000@www.jju-nds.de
SUMMARY:NACHHOL-LEHRGANG Landeslehrgang – Trainerassistenzfortbildung
DESCRIPTION:Lehrgangsnummer: LL01/21\nNachhollehrgang \nPDF \nReferenten: Wilko Busemann\nLehrgangsleitung: Bernhard Campen (Tel. 0 49 45 91 55 55) 1. Dan Jiu-Jitsu\nLehrgangsart: Landeslehrgang – Aus- u. Fortbildung  \nDatum: 11.09.2021\nZeit: 15.00 Uhr – 18.30 Uhr  \n Ausrichter: Selbstverteidigungsschule Yujin Großefehn  \nOrt: Selbstverteidigungsschule Yujin Großefehn\, Leerer Landstraße 14\, 26629 Großefehn  \nThematik: Trainerassistentenausbildung\nTeilnehmer: Verbandsoffen mit Anmeldung bis zum 07.09.2021  \nbei der Lehrgangsleitung\, kontakt@yujin.de (Anmeldungen erforderlich!)  \nKosten: 10\,00 € je Teilnehmer / pauschal  \nBemerkung: Nach dem Lehrgang besteht die Möglichkeit zum gemeinsamen Pizza-Essen (auf eigene Kosten) und Austausch.  \nEs besteht die Möglichkeit der Mattenübernachtung (Abendprogramm ist geplant) und gemeinsames Frühstück (+5 €).  \nAblaufplanung (vorläufig\, wird je nach Bedarf angepasst):  \nSamstag 11.09.2021  \nab 14:30 Uhr: Abgabe der Pässe\, Eintragen in Lehrgangsliste sowie Teilnahmeliste LSB  \nBeginn: 15:00 Uhr  \n– Aufgaben und Funktion als Trainer-Assistent  \n– Aufbau einer Trainingsstunde / eines Aufwärmtrainings  \nPause: ca. 16:30 Uhr – ca. 17:00 Uhr  \n– Wege der Prüfungsvorbereitung  \n– Spiele im Budo-Sport  \nLehrgangsende: 18:30 Uhr  \nWir freuen uns auf einen tollen Lehrgang!  \n Hinweis: Veranstalter und Ausrichter übernehmen keine Haftung für Personen-\, Sach- oder Vermögensschäden. Bitte das aktuelle Waffenrecht beachten! Einverständniserklärung: Die Teilnehmer erklären mit ihrer Teilnahme am Lehrgang ihr Einverständnis zur Erstellung von Foto-\, Film- und Tonaufnahmen ihrer Personen im Rahmen des Lehrgangs\, zur Verwendung und Veröffentlichung zum Zwecke der öffentlichen Berichterstattung. Sollte jemand hiermit nicht einverstanden sein\, dieses bitte dem Ausrichter vor dem Lehrgang mitteilen. 
URL:https://www.jju-nds.de/veranstaltung/landeslehrgang-trainerassistenzfortbildung/
LOCATION:Großefehn\, Deutschland
CATEGORIES:Landeslehrgang
END:VEVENT
END:VCALENDAR