BEGIN:VCALENDAR
VERSION:2.0
PRODID:-//Jiu-Jitsu Union Niedersachsen e. V. - ECPv6.3.2//NONSGML v1.0//EN
CALSCALE:GREGORIAN
METHOD:PUBLISH
X-WR-CALNAME:Jiu-Jitsu Union Niedersachsen e. V.
X-ORIGINAL-URL:https://www.jju-nds.de
X-WR-CALDESC:Veranstaltungen für Jiu-Jitsu Union Niedersachsen e. V.
REFRESH-INTERVAL;VALUE=DURATION:PT1H
X-Robots-Tag:noindex
X-PUBLISHED-TTL:PT1H
BEGIN:VTIMEZONE
TZID:Europe/Berlin
BEGIN:DAYLIGHT
TZOFFSETFROM:+0100
TZOFFSETTO:+0200
TZNAME:CEST
DTSTART:20210328T010000
END:DAYLIGHT
BEGIN:STANDARD
TZOFFSETFROM:+0200
TZOFFSETTO:+0100
TZNAME:CET
DTSTART:20211031T010000
END:STANDARD
END:VTIMEZONE
BEGIN:VEVENT
DTSTART;TZID=Europe/Berlin:20211002T140000
DTEND;TZID=Europe/Berlin:20211002T170000
DTSTAMP:20260424T084350
CREATED:20191102T092707Z
LAST-MODIFIED:20210904T091640Z
UID:4977-1633183200-1633194000@www.jju-nds.de
SUMMARY:Landeslehrgang - Technik
DESCRIPTION:Lehrgangsnummer: LL09/21 \nPDF \nAusrichter: SV Wacker Osterwald  \nReferent: Oliver Merten\nLehrgangsleitung: Dennis Schremmer (Tel. 0174 – 19 49 73 1) 6. Dan Jujutsu\nLehrgangsart: Landeslehrgang – Technik  \nDatum: 02.10.2021\nZeit: 14:00 Uhr – 17:00 Uhr\nOrt: Mittelpunktschule Osterwald\, Robert-Koch-Straße 110\, 30826 Garbsen  \nThematik: Jujutsu\, Combatives\, Ground Concepts  \nTeilnehmer: Verbandsoffen  \nKosten: 10\,00 € je Teilnehmer / pauschal  \nBemerkung: Es gelten die zum Zeitpunkt des Lehrgangs gültigen Corona-Regeln für öffentliche Veranstaltungen\, ein entsprechender Nachweis ist gegebenenfalls zu erbringen.  \n Hinweis: Veranstalter und Ausrichter übernehmen keine Haftung für Personen-\, Sach- oder Vermögensschäden. Bitte das aktuelle Waffenrecht beachten! Einverständniserklärung: Die Teilnehmer erklären mit ihrer Teilnahme am Lehrgang ihr Einverständnis zur Erstellung von Foto-\, Film- und Tonaufnahmen ihrer Personen im Rahmen des Lehrgangs\, zur Verwendung und Veröffentlichung zum Zwecke der öffentlichen Berichterstattung. Sollte jemand hiermit nicht einverstanden sein\, dieses bitte dem Ausrichter vor dem Lehrgang mitteilen. 
URL:https://www.jju-nds.de/veranstaltung/landeslehrgang-technik-0921-2/
LOCATION:Garbsen\, Robert-Koch-Straße\, Garbsen\, Deutschland
CATEGORIES:Landeslehrgang
END:VEVENT
END:VCALENDAR