BEGIN:VCALENDAR
VERSION:2.0
PRODID:-//Jiu-Jitsu Union Niedersachsen e. V. - ECPv6.3.2//NONSGML v1.0//EN
CALSCALE:GREGORIAN
METHOD:PUBLISH
X-ORIGINAL-URL:https://www.jju-nds.de
X-WR-CALDESC:Veranstaltungen für Jiu-Jitsu Union Niedersachsen e. V.
REFRESH-INTERVAL;VALUE=DURATION:PT1H
X-Robots-Tag:noindex
X-PUBLISHED-TTL:PT1H
BEGIN:VTIMEZONE
TZID:Europe/Berlin
BEGIN:DAYLIGHT
TZOFFSETFROM:+0100
TZOFFSETTO:+0200
TZNAME:CEST
DTSTART:20210328T010000
END:DAYLIGHT
BEGIN:STANDARD
TZOFFSETFROM:+0200
TZOFFSETTO:+0100
TZNAME:CET
DTSTART:20211031T010000
END:STANDARD
END:VTIMEZONE
BEGIN:VEVENT
DTSTART;TZID=Europe/Berlin:20211107T120000
DTEND;TZID=Europe/Berlin:20211107T200000
DTSTAMP:20260424T072101
CREATED:20191102T092233Z
LAST-MODIFIED:20211003T180240Z
UID:4755-1636286400-1636315200@www.jju-nds.de
SUMMARY:Landesprüfung Grys-San-Do\, Niederlande
DESCRIPTION:Die Landesprüfung wird unter Vorbehalt ausgeschrieben\, um Beachtung der angegeben Fristen durch die Prüflinge wird gebeten. \nAuschreibung-PDF \n LP 02/21  \nDatum: 07.11.2021  \nZeit: Beginn 13:00 Uhr\, ab 12:00 Uhr Eintreffen und Abgabe der Pässe  \nOrt: Grys-San-Do\, Niederlande\, Agrobaan 9\, 5813 EB Ysselsteyn  \nAnmeldung: Schriftliche Anmeldung über den Verein/Abteilung per vollständig ausgefüllten Graduierungsantrag.  \nEingang der Unterlagen beim Lehr- und Prüfungswart/in über Geschäftsstelle bis zum 29.10.2021.  \nAusrüstung: Budo-Gi (weiß)\, Budopass und Waffen  \nKosten: 20\,00 € für Prüfungen zum 1. KYU  \n60\,00 € für DAN-Prüfungen  \nDie Prüfungsgebühren müssen bis zum 29.10.2021 auf dem Konto der JJU-Nds. e. V.  \nIBAN: DE62256900096000290500\, BIC: GENODEF1NIN (Volksbank Nienburg eG)  \nunter Angabe der Veranstaltungsnummer und Name des/der Prüflinge(e) gebucht sein.  \nBemerkung: Die Punkte 2.2\, 2.4\, 2.6 sowie 3.3 der Bundesprüfungsordnung sind Voraussetzung für die Zulassung zur Prüfung.  \nDie geltenden Corona-Maßnahmen sind vom Ausrichter unbedingt einzuhalten\, daher wird die Prüfung unter Vorbehalt ausgeschrieben. 
URL:https://www.jju-nds.de/veranstaltung/landespruefung0221/
LOCATION:Niederlande\, Niederlande
CATEGORIES:Landesprüfung
END:VEVENT
BEGIN:VEVENT
DTSTART;TZID=Europe/Berlin:20211113T140000
DTEND;TZID=Europe/Berlin:20211113T170000
DTSTAMP:20260424T072101
CREATED:20191102T092707Z
LAST-MODIFIED:20211031T120305Z
UID:4953-1636812000-1636822800@www.jju-nds.de
SUMMARY:ABGESAGT-Landeslehrgang - Technik
DESCRIPTION:Leider müssen wir aus organisatorischen Gründen\, kurzfristig den am 13.11.2021 in Großefehn geplanten Landeslehrgang 10/21 absagen.\nGeplant ist\, den Lehrgang nun im nächsten Jahr auszurichten\nLehrgangsnummer: LL 010/21\n \nAusschreibung – PDF \nReferent: Wilfried Meyer\, 2. Dan Jiu-Jitsu \nLehrgangsleitung: Bernhard Campen\, Tel. 0 49 45 – 91 55 55) \nAusrichter: Selbstverteidigungsschule Yujin Großefehn  \nLehrgangsart: Landeslehrgang – Technik  \nDatum: 13.11.2021  \nZeit: 14.00 Uhr – 17.00 Uhr  \nOrt: Sporthalle der Grundschule\, Neuer Weg 10\, 26629 Mittegroßefehn  \nThematik: Technik und Prüfung  \nTeilnehmer: Verbandsoffen  \nKosten: 10\,00 € je Teilnehmer / pauschal  \nBemerkung: Es gelten die zum Zeitpunkt des Lehrgangs gültigen Corona-Regeln für öffentliche Veranstaltungen\, ein entsprechender Nachweis ist gegebenenfalls zu erbringen. 
URL:https://www.jju-nds.de/veranstaltung/landeslehrgang-technik-0921/
LOCATION:Mittegroßefehn\, Neuer Weg 10\, Mittegroßefehn\, 26629\, Deutschland
CATEGORIES:Landeslehrgang
END:VEVENT
END:VCALENDAR