BEGIN:VCALENDAR
VERSION:2.0
PRODID:-//Jiu-Jitsu Union Niedersachsen e. V. - ECPv6.3.2//NONSGML v1.0//EN
CALSCALE:GREGORIAN
METHOD:PUBLISH
X-ORIGINAL-URL:https://www.jju-nds.de
X-WR-CALDESC:Veranstaltungen für Jiu-Jitsu Union Niedersachsen e. V.
REFRESH-INTERVAL;VALUE=DURATION:PT1H
X-Robots-Tag:noindex
X-PUBLISHED-TTL:PT1H
BEGIN:VTIMEZONE
TZID:Europe/Berlin
BEGIN:DAYLIGHT
TZOFFSETFROM:+0100
TZOFFSETTO:+0200
TZNAME:CEST
DTSTART:20210328T010000
END:DAYLIGHT
BEGIN:STANDARD
TZOFFSETFROM:+0200
TZOFFSETTO:+0100
TZNAME:CET
DTSTART:20211031T010000
END:STANDARD
END:VTIMEZONE
BEGIN:VEVENT
DTSTART;VALUE=DATE:20211204
DTEND;VALUE=DATE:20211205
DTSTAMP:20260424T055956
CREATED:20191102T092233Z
LAST-MODIFIED:20210910T100640Z
UID:4979-1638576000-1638662399@www.jju-nds.de
SUMMARY:Landes- und Bundesprüfung
DESCRIPTION:LP 03/21\nEinladung durch Lehr- und Prüfungsreferenten\nBedarf melden bis 4 Wochen vor Termin an die Geschäftsstelle
URL:https://www.jju-nds.de/veranstaltung/landespruefung0221-2/
LOCATION:Flexibel\, Deutschland
CATEGORIES:Landesprüfung
END:VEVENT
END:VCALENDAR