BEGIN:VCALENDAR
VERSION:2.0
PRODID:-//Jiu-Jitsu Union Niedersachsen e. V. - ECPv6.3.2//NONSGML v1.0//EN
CALSCALE:GREGORIAN
METHOD:PUBLISH
X-WR-CALNAME:Jiu-Jitsu Union Niedersachsen e. V.
X-ORIGINAL-URL:https://www.jju-nds.de
X-WR-CALDESC:Veranstaltungen für Jiu-Jitsu Union Niedersachsen e. V.
REFRESH-INTERVAL;VALUE=DURATION:PT1H
X-Robots-Tag:noindex
X-PUBLISHED-TTL:PT1H
BEGIN:VTIMEZONE
TZID:Europe/Berlin
BEGIN:DAYLIGHT
TZOFFSETFROM:+0100
TZOFFSETTO:+0200
TZNAME:CEST
DTSTART:20220327T010000
END:DAYLIGHT
BEGIN:STANDARD
TZOFFSETFROM:+0200
TZOFFSETTO:+0100
TZNAME:CET
DTSTART:20221030T010000
END:STANDARD
END:VTIMEZONE
BEGIN:VEVENT
DTSTART;TZID=Europe/Berlin:20220122T000000
DTEND;TZID=Europe/Berlin:20220122T000000
DTSTAMP:20260424T042904
CREATED:20191102T121539Z
LAST-MODIFIED:20191102T121539Z
UID:5147-1642809600-1642809600@www.jju-nds.de
SUMMARY:Landesprüfung
DESCRIPTION:LP 01/22\nEinladung durch Lehr- und Prüfungsreferenten\nBedarf melden\, 4 Wochen vor Termin an die Geschäftsstelle
URL:https://www.jju-nds.de/veranstaltung/landespruefung1-22-2-2/
LOCATION:Flexibel\, Deutschland
CATEGORIES:Landesprüfung
END:VEVENT
END:VCALENDAR