BEGIN:VCALENDAR
VERSION:2.0
PRODID:-//Jiu-Jitsu Union Niedersachsen e. V. - ECPv6.3.2//NONSGML v1.0//EN
CALSCALE:GREGORIAN
METHOD:PUBLISH
X-ORIGINAL-URL:https://www.jju-nds.de
X-WR-CALDESC:Veranstaltungen für Jiu-Jitsu Union Niedersachsen e. V.
REFRESH-INTERVAL;VALUE=DURATION:PT1H
X-Robots-Tag:noindex
X-PUBLISHED-TTL:PT1H
BEGIN:VTIMEZONE
TZID:Europe/Berlin
BEGIN:DAYLIGHT
TZOFFSETFROM:+0100
TZOFFSETTO:+0200
TZNAME:CEST
DTSTART:20220327T010000
END:DAYLIGHT
BEGIN:STANDARD
TZOFFSETFROM:+0200
TZOFFSETTO:+0100
TZNAME:CET
DTSTART:20221030T010000
END:STANDARD
END:VTIMEZONE
BEGIN:VEVENT
DTSTART;TZID=Europe/Berlin:20220319T140000
DTEND;TZID=Europe/Berlin:20220319T170000
DTSTAMP:20260424T013616
CREATED:20191102T092707Z
LAST-MODIFIED:20191102T092707Z
UID:5314-1647698400-1647709200@www.jju-nds.de
SUMMARY:Landeslehrgang - Technik
DESCRIPTION:LL 01/22 \nPDF\nReferent: Jens Donat\, 4. Dan AKS\, 3. Dan Shotokan \nLehrgangsleitung: Dirk Labuhn (Tel. 0163 – 7170421) \n \n Ausrichter: TSV Neuenkirchen e.V.  \nLehrgangsart: Landeslehrgang – Technik  \nDatum: 19. März 2022  \nZeit: 14.00 Uhr – 17.00 Uhr  \nOrt: Sporthalle Grundschule Neuenkirchen\, Schulstraße 9-11\, 28790 Schwanewede  \nThematik: Karate jenseits von Hand- und Fußtechniken\, Einblicke in unterschiedliche Karatestile.\nVorstellung des American Karate System (AKS) im DKV mit Schwerpunkt auf Atemi-Kombination und Kombinationen aus Atemi und Wurftechniken.  \nTeilnehmer: Verbandsoffen  \nKosten: 15\,00 € je Teilnehmer/pauschal  \nBemerkung: Um Anmeldung bis zum 12. März 2022 wird gebeten!  \nEs gelten die zum Zeitpunkt des Lehrgangs gültigen Corona-Regeln für öffentliche Veranstaltungen\, ein entsprechender Nachweis ist gegebenenfalls zu erbringen. Auch ist eine kurzfristige Absage des Lehrganges möglich\, der Veranstalter übernimmt für daraus entstehende Kosten keine Haftung! 
URL:https://www.jju-nds.de/veranstaltung/landeslehrgang-technik-22-1-2/
LOCATION:Schwanewede\, Sporthalle Grundschule Neuenkirchen\, Schulstraße 9-11\, Schwanewede\, 28790\, Deutschland
CATEGORIES:Landeslehrgang
END:VEVENT
BEGIN:VEVENT
DTSTART;TZID=Europe/Berlin:20220326T123000
DTEND;TZID=Europe/Berlin:20220327T140000
DTSTAMP:20260424T013616
CREATED:20180401T104952Z
LAST-MODIFIED:20220308T181108Z
UID:3621-1648297800-1648389600@www.jju-nds.de
SUMMARY:Budo & Friends Seminar
DESCRIPTION:VL \nAusschreibung PDF \nReferenten:\nAlain Sailly\, 9. Dan Goshindo\, 8. Dan Jiu-Jitsu Frankreich\nSara Lenau\, 1. Dan Judo\nDustin Stoltzfus\, UFC Fighter USA \nAnsprechpartner: Nina & Bernhard Campen\,\nTel. 04 94 5 – 91 55 55\, Mobil 01 72 – 41 45 54 4 \nMail: kontakt@yujin.de \nDatum / Zeit:\n26. + 27. 03. 2022\nBeginn: 13.45 Uhr\, Eintreffen ab 12.45 Uhr \nStraße / Ort:\nKGS Großefehn – Turnhalle\nKanalstraße Nord 91a\n26629 Großefehn \nTeilnehmer: alle Budoka ab 12 Jahre \nKosten:\n1 Tag 45\,- Euro\, 2 Tage 60\,- Euro\nKids-Seminar am 26.03. von 10.00 bis 11.30 Uhr: 15\,- Euro\nMattenübernachtung mit Frühstück ist für 10\,- Euro möglich – bitte um Anmeldung. \nAusrichter:\nYujin\, Großefehn \n\nmehr Infos unter: www.budo-friends.de
URL:https://www.jju-nds.de/veranstaltung/bf-260322/
LOCATION:Großefehn\, Deutschland
CATEGORIES:Vereinslehrgang
END:VEVENT
END:VCALENDAR