BEGIN:VCALENDAR
VERSION:2.0
PRODID:-//Jiu-Jitsu Union Niedersachsen e. V. - ECPv6.3.2//NONSGML v1.0//EN
CALSCALE:GREGORIAN
METHOD:PUBLISH
X-ORIGINAL-URL:https://www.jju-nds.de
X-WR-CALDESC:Veranstaltungen für Jiu-Jitsu Union Niedersachsen e. V.
REFRESH-INTERVAL;VALUE=DURATION:PT1H
X-Robots-Tag:noindex
X-PUBLISHED-TTL:PT1H
BEGIN:VTIMEZONE
TZID:Europe/Berlin
BEGIN:DAYLIGHT
TZOFFSETFROM:+0100
TZOFFSETTO:+0200
TZNAME:CEST
DTSTART:20220327T010000
END:DAYLIGHT
BEGIN:STANDARD
TZOFFSETFROM:+0200
TZOFFSETTO:+0100
TZNAME:CET
DTSTART:20221030T010000
END:STANDARD
END:VTIMEZONE
BEGIN:VEVENT
DTSTART;TZID=Europe/Berlin:20221015T130000
DTEND;TZID=Europe/Berlin:20221015T170000
DTSTAMP:20260424T025310
CREATED:20191102T121539Z
LAST-MODIFIED:20220924T153935Z
UID:4780-1665838800-1665853200@www.jju-nds.de
SUMMARY:Landeslehrgang - Technik
DESCRIPTION:Lehrgangsnummer: LL 07/22 \nAusschreibung PDF \nReferent: Achim Hanke | 9. Dan Ju-Jutsu \nLehrgangsleitung: Olaf Scher Tel. 0172 8844560 \nLehrgangsart: Landeslehrgang – Technik  \nDatum: 15.10.2022  \nZeit: 13.00 Uhr – 17.00 Uhr  \nOrt: Gymnastikraum des Gymnasiums\, Berliner Ring 27\, 31303 Burgdorf  \nThematik: Gegen- und Weiterführungstechniken  \nTeilnehmer: Verbandsoffen  \nKosten: 15\,00 € je Teilnehmer / pauschal  \n5\,00 € je Kind / pauschal 
URL:https://www.jju-nds.de/veranstaltung/landeslehrgang7-22/
LOCATION:Burgdorf\, Deutschland
CATEGORIES:Landeslehrgang
END:VEVENT
END:VCALENDAR