BEGIN:VCALENDAR
VERSION:2.0
PRODID:-//Jiu-Jitsu Union Niedersachsen e. V. - ECPv6.3.2//NONSGML v1.0//EN
CALSCALE:GREGORIAN
METHOD:PUBLISH
X-ORIGINAL-URL:https://www.jju-nds.de
X-WR-CALDESC:Veranstaltungen für Jiu-Jitsu Union Niedersachsen e. V.
REFRESH-INTERVAL;VALUE=DURATION:PT1H
X-Robots-Tag:noindex
X-PUBLISHED-TTL:PT1H
BEGIN:VTIMEZONE
TZID:Europe/Berlin
BEGIN:DAYLIGHT
TZOFFSETFROM:+0100
TZOFFSETTO:+0200
TZNAME:CEST
DTSTART:20230326T010000
END:DAYLIGHT
BEGIN:STANDARD
TZOFFSETFROM:+0200
TZOFFSETTO:+0100
TZNAME:CET
DTSTART:20231029T010000
END:STANDARD
END:VTIMEZONE
BEGIN:VEVENT
DTSTART;TZID=Europe/Berlin:20230506T140000
DTEND;TZID=Europe/Berlin:20230506T170000
DTSTAMP:20260424T113847
CREATED:20221126T162958Z
LAST-MODIFIED:20221126T162958Z
UID:5431-1683381600-1683392400@www.jju-nds.de
SUMMARY:Landeslehrgang - Technik
DESCRIPTION:LL 03/23 \nAusschreibung-PDF \nReferent: Frank Stolzenburg\, Head Instructor Berlin Kali Group(.de)\, 6. Dan Ju-Jitsu\, 3. Dan Kali Sikaran\, 1. Dan Kyusho-Jitsu\, 1. Dan Kempo Karate\, 3. Dan Kali Silat E. \nVeranstaltungsleitung: Olaf Scher\, Tel. 0172 8844560 \nVeranstaltungsart: Landeslehrgang – Technik \n Datum: 06. Mai 2023 \nZeit: 14:00 Uhr – 17:00 Uhr \nOrt: Gymnastikraum des Gymnasiums\, Berliner Ring 27\, 31303 Burgdorf  \nThematik: Stocktechniken – Handhabung\, Fußarbeit\, Distanz\, Schlag- und Blockübungen\, Abwehr und Weiterführung\, Stock- und Doppelstock Drills  \nTeilnehmer: ab 14 Jahre\, offen für alle Stile und Systeme\, Anfänger und Fortgeschrittene  \nKosten: 15\,00 € je Teilnehmer / pauschal  \nBemerkung: Stock 2x (Softstick 2x) und Pratzen 2x mitbringen. Stöcke und Pratzen stehen nur in begrenzter Anzahl zur Verfügung. \n  \n Hinweis: Veranstalter und Ausrichter übernehmen keine Haftung für Personen-\, Sach- oder Vermögensschäden. Bitte das aktuelle Waffenrecht beachten! Einverständniserklärung: Die Teilnehmer erklären mit ihrer Teilnahme an der Veranstaltung\, ihr Einverständnis zur Erstellung von Foto-\, Film- und Tonaufnahmen ihrer Person im Rahmen der Veranstaltung\, zur Verwendung und Veröffentlichung zum Zwecke der öffentlichen Berichterstattung. Sollte jemand hiermit nicht einverstanden sein\, ist dieses bitte dem Ausrichter vor der Veranstaltung mitteilen. 
URL:https://www.jju-nds.de/veranstaltung/landeslehrgang-technik-4-3/
LOCATION:Burgdorf\, Deutschland
CATEGORIES:Landeslehrgang
END:VEVENT
BEGIN:VEVENT
DTSTART;TZID=Europe/Berlin:20230506T140000
DTEND;TZID=Europe/Berlin:20230506T170000
DTSTAMP:20260424T113847
CREATED:20221126T162958Z
LAST-MODIFIED:20221126T162958Z
UID:5432-1683381600-1683392400@www.jju-nds.de
SUMMARY:Landeslehrgang - Technik
DESCRIPTION:LL 03/23 \nAusschreibung-PDF \nReferent: Frank Stolzenburg\, Head Instructor Berlin Kali Group(.de)\, 6. Dan Ju-Jitsu\, 3. Dan Kali Sikaran\, 1. Dan Kyusho-Jitsu\, 1. Dan Kempo Karate\, 3. Dan Kali Silat E. \nVeranstaltungsleitung: Olaf Scher\, Tel. 0172 8844560 \nVeranstaltungsart: Landeslehrgang – Technik \n Datum: 06. Mai 2023 \nZeit: 14:00 Uhr – 17:00 Uhr \nOrt: Gymnastikraum des Gymnasiums\, Berliner Ring 27\, 31303 Burgdorf  \nThematik: Stocktechniken – Handhabung\, Fußarbeit\, Distanz\, Schlag- und Blockübungen\, Abwehr und Weiterführung\, Stock- und Doppelstock Drills  \nTeilnehmer: ab 14 Jahre\, offen für alle Stile und Systeme\, Anfänger und Fortgeschrittene  \nKosten: 15\,00 € je Teilnehmer / pauschal  \nBemerkung: Stock 2x (Softstick 2x) und Pratzen 2x mitbringen. Stöcke und Pratzen stehen nur in begrenzter Anzahl zur Verfügung. \n  \n Hinweis: Veranstalter und Ausrichter übernehmen keine Haftung für Personen-\, Sach- oder Vermögensschäden. Bitte das aktuelle Waffenrecht beachten! Einverständniserklärung: Die Teilnehmer erklären mit ihrer Teilnahme an der Veranstaltung\, ihr Einverständnis zur Erstellung von Foto-\, Film- und Tonaufnahmen ihrer Person im Rahmen der Veranstaltung\, zur Verwendung und Veröffentlichung zum Zwecke der öffentlichen Berichterstattung. Sollte jemand hiermit nicht einverstanden sein\, ist dieses bitte dem Ausrichter vor der Veranstaltung mitteilen. 
URL:https://www.jju-nds.de/veranstaltung/landeslehrgang-technik-4-4/
LOCATION:Burgdorf\, Deutschland
CATEGORIES:Landeslehrgang
END:VEVENT
BEGIN:VEVENT
DTSTART;TZID=Europe/Berlin:20230513T140000
DTEND;TZID=Europe/Berlin:20230514T120000
DTSTAMP:20260424T113847
CREATED:20221126T163343Z
LAST-MODIFIED:20221126T163343Z
UID:5434-1683986400-1684065600@www.jju-nds.de
SUMMARY:Landeslehrgang - alle Katas
DESCRIPTION:LL 04/23 \nAuschreibung-PDF \nLehrgangsart: Landeslehrgang – Kata  \nReferenten:\nTony van Venrooy\, 8. Dan Ju-Jitsu\nKarel\, Schepers\, 5. Dan Jiu-Jitsu \nAusrichter: Grys-San-Do \nLehrgangsleitung: Karel Schepers (Tel.: +31 622168306)  \nDatum: 13. – 14.05.2023 \nZeit: Samstag\, 14:00 Uhr – 17:00 Uhr (ab 12:00 Uhr Abgabe der Pässe)\nSonntag\, 09:00 Uhr – 12:00 Uhr  \nOrt: Gezellenbaan 10\, 5813 EB Ysselsteyn (NL)  \nThematik: alle Kata\, gemäß Bundesprüfungsordnung der DJJU\, Teil 3.4\, Prüfungsinhalte DAN-Grade\, Kata  \nTeilnehmer: Verbandsoffen  \nKosten: 20\,00 € je Teilnehmer/pauschal\, optional Verpflegung 25\,00 €  \n(Mittag- und Frühstück\, Samstagabend ist ein gemeinsames Essen geplant)  \nBemerkung: Anmeldung bis zum 01.05.2024\, gemäß Terminplanung 2023  \nMattenübernachtung nach Absprache möglich.  \nEs gelten die zum Zeitpunkt des Lehrgangs gültigen Corona-Regeln für öffentliche Veranstaltungen\, ein entsprechender Nachweis ist gegebenenfalls zu erbringen. Auch ist eine kurzfristige Absage des Lehrganges möglich\, der Veranstalter übernimmt für daraus entstehende Kosten keine Haftung! 
URL:https://www.jju-nds.de/veranstaltung/landeslehrgang-alle-katas-2-2/
LOCATION:Niederlande\, Niederlande
CATEGORIES:Landeslehrgang
END:VEVENT
BEGIN:VEVENT
DTSTART;TZID=Europe/Berlin:20230526T170000
DTEND;TZID=Europe/Berlin:20230528T140000
DTSTAMP:20260424T113847
CREATED:20221126T163648Z
LAST-MODIFIED:20221126T163648Z
UID:5436-1685120400-1685282400@www.jju-nds.de
SUMMARY: GRYS-SAN-DO | Jiu-Jitsu-Camp
DESCRIPTION:VL01/03\nAusschreibung-PDF \nWir laden alle interessierten ein zu einem Jiu-Jitsu – Camp\nfür Kinder\, Jugendliche und Erwachsene vom 26 bis 28 Mai 2023 in den Niederlanden  \nWie sieht das Wochenende aus:  \nFreitag\, 26 Mai bis 17:15 Uhr Ankunft in Gezellenbaan 10\, 5813 EB Ysselsteyn (NL).  \n18:00 Uhr Training  \n19:30 Uhr Abendessen\, anschließend – bei gutem Wetter – Spiele und schwimmen im Garten  \nSamstag\, 27 Mai 08:30 Uhr Frühstück  \n10:00 Uhr Abfahrt ins Wunderland Kalkar  \n18:00 Uhr Zurück in Ysselsteyn  \n20:30 Uhr Abendessen\, danach Feuerstelle\, Kinoabend mit Popcorn\, Pommes  \nund Sportspiele  \nSonntag\, 28 Mai\n09:00 Uhr Frühstück\n10:30 Uhr Training\n12:00 Uhr Mittagessen\n12:30 Uhr Training\n14:00 Uhr Ende des Camps  \nTeilnehmer: alle interessierten Teilnehmer ab 5 Jahren!  \nAnmeldung bitte bis zum 15.05.2023\, maximal 40 Teilnehmer.  \nDie Kosten für dieses Wochenende betragen: € 40\,00 pro Person.  \nWas ist in den Preis inbegriffen:  \nTeilnahme am Training\, 2 x Frühstück und 2 x Abendessen sowie Mittagessen am Sonntag.  \nDieses sollte ich mitbringen:  \nBudo-Gi\, Badeschlappen\, Schlafzeug\, Schlafsack\, Luftmatratze Kissen\, Toilettenartikel\, Schwimmkleidung\, Handtücher\, Wechselkleidung (die ruhig etwas dreckig werden darf)\, bequemes Schuhwerk\, Taschenlampe\, Taschengeld … und natürlich viel viel Spaß!  \nSchwimmkleidung und ein Handtuch bitte extra einpacken\, für das schwimmen am Freitag im Garten.  \nHinweis:  \nDie Teilnahme am Trainingscamp geschieht auf eigenes Risiko.  \n(Erste Hilfe ist vor Ort\, Teilnehmer mit gesundheitlichen Problemen sowie Allergien usw. mir dieses bitte vor Beginn des Trainingswochenendes mitteilen.) 
URL:https://www.jju-nds.de/veranstaltung/jiu-jitsu-camp-2/
LOCATION:Niederlande\, Niederlande
CATEGORIES:Vereinslehrgang
END:VEVENT
END:VCALENDAR