BEGIN:VCALENDAR
VERSION:2.0
PRODID:-//Jiu-Jitsu Union Niedersachsen e. V. - ECPv6.3.2//NONSGML v1.0//EN
CALSCALE:GREGORIAN
METHOD:PUBLISH
X-WR-CALNAME:Jiu-Jitsu Union Niedersachsen e. V.
X-ORIGINAL-URL:https://www.jju-nds.de
X-WR-CALDESC:Veranstaltungen für Jiu-Jitsu Union Niedersachsen e. V.
REFRESH-INTERVAL;VALUE=DURATION:PT1H
X-Robots-Tag:noindex
X-PUBLISHED-TTL:PT1H
BEGIN:VTIMEZONE
TZID:Europe/Berlin
BEGIN:DAYLIGHT
TZOFFSETFROM:+0100
TZOFFSETTO:+0200
TZNAME:CEST
DTSTART:20230326T010000
END:DAYLIGHT
BEGIN:STANDARD
TZOFFSETFROM:+0200
TZOFFSETTO:+0100
TZNAME:CET
DTSTART:20231029T010000
END:STANDARD
END:VTIMEZONE
BEGIN:VEVENT
DTSTART;TZID=Europe/Berlin:20230610T140000
DTEND;TZID=Europe/Berlin:20230610T170000
DTSTAMP:20260424T130434
CREATED:20221126T164042Z
LAST-MODIFIED:20221126T164042Z
UID:5439-1686405600-1686416400@www.jju-nds.de
SUMMARY:Landeslehrgang - Technik
DESCRIPTION:LL 05/23 \nAusschreibung-PDF \nVeranstaltungsart: Landeslehrgang – Technik \nReferent: Thomas Hilgenberg\, 3. Dan Jiu-Jitsu  \nVeranstaltungsleitung: Joline Humrich (Tel. 0151 25919950) \nAusrichter: TSV Neuenkirchen e. V.  \n Datum: 10.06.2023  \nZeit: 14:00 Uhr – 17:00 Uhr  \nOrt: Pausenhalle der Grundschule\, OT Neuenkirchen\, Schulstraße 22\, 28790 Schwanewede  \nThematik: Messerabwehr  \nTeilnehmer: Verbandsoffen  \nKosten: 15\,00 € je Teilnehmer / pauschal  \nBemerkung: Die benötigten Trainingsmesser sind vom Lehrgangsteilnehmer mitzubringen.  \n Hinweis: Veranstalter und Ausrichter übernehmen keine Haftung für Personen-\, Sach- oder Vermögensschäden. Bitte das aktuelle Waffenrecht beachten! Einverständniserklärung: Die Teilnehmer erklären mit ihrer Teilnahme an der Veranstaltung\, ihr Einverständnis zur Erstellung von Foto-\, Film- und Tonaufnahmen ihrer Person im Rahmen der Veranstaltung\, zur Verwendung und Veröffentlichung zum Zwecke der öffentlichen Berichterstattung. Sollte jemand hiermit nicht einverstanden sein\, ist dieses bitte dem Ausrichter vor der Veranstaltung mitteilen. 
URL:https://www.jju-nds.de/veranstaltung/landeslehrgang-technik-5-2/
LOCATION:Neuenkirchen\, Deutschland
CATEGORIES:Landeslehrgang
END:VEVENT
BEGIN:VEVENT
DTSTART;TZID=Europe/Berlin:20230624T120000
DTEND;TZID=Europe/Berlin:20230624T170000
DTSTAMP:20260424T130434
CREATED:20221126T164446Z
LAST-MODIFIED:20221126T164446Z
UID:5441-1687608000-1687626000@www.jju-nds.de
SUMMARY:Landesprüfung
DESCRIPTION:LP 01/23 \nAusschreibung-PDF \nDatum: 24.06.2023 \nZeit: Beginn 13:00 Uhr | Ab 12:00 Uhr Eintreffen und Abgabe der Pässe \nOrt: Grundschule Burgdorf\, Hannoversche Neustadt 32\, 31303 Burgdorf  \nAnmeldung: Schriftliche Anmeldung über den Verein/Abteilung per vollständig ausgefüllten Graduierungsantrag. Eingang der Unterlagen beim Lehr- und Prüfungswart über Geschäftsstelle bis zum 24.05.2023. \nAusrüstung: Budo-Gi (weiß)\, Budopass und Waffen \nKosten: 20\,00 € für Prüfungen zum 1. KYU\n60\,00 € für DAN-Prüfungen \n Ausrichter: Samurai Burgdorf e. V. \nDie Prüfungsgebühren müssen bis zum 02.06.2023 auf dem Konto der JJU-Nds. e. V. \nIBAN: DE48 2559 1413 3164 9670 00\, BIC: GENODEF1BCK (VB in SHG u. NI eG) \nunter Angabe der Veranstaltungsnummer und Name des/der Prüflinge(e) gebucht sein. \nBemerkung: Die Punkte 2.2\, 2.4\, 2.6 sowie 3.3 der Bundesprüfungsordnung sind Voraussetzung für die Zulassung zur Prüfung.
URL:https://www.jju-nds.de/veranstaltung/landespruefung-6/
LOCATION:Burgdorf\, Deutschland
CATEGORIES:Landesprüfung
END:VEVENT
END:VCALENDAR